BEGIN:VCALENDAR
VERSION:2.0
PRODID:-//Crispus Attucks York - ECPv6.15.11//NONSGML v1.0//EN
CALSCALE:GREGORIAN
METHOD:PUBLISH
X-ORIGINAL-URL:https://crispusattucks.org
X-WR-CALDESC:Events for Crispus Attucks York
REFRESH-INTERVAL;VALUE=DURATION:PT1H
X-Robots-Tag:noindex
X-PUBLISHED-TTL:PT1H
BEGIN:VTIMEZONE
TZID:America/New_York
BEGIN:DAYLIGHT
TZOFFSETFROM:-0500
TZOFFSETTO:-0400
TZNAME:EDT
DTSTART:20240310T070000
END:DAYLIGHT
BEGIN:STANDARD
TZOFFSETFROM:-0400
TZOFFSETTO:-0500
TZNAME:EST
DTSTART:20241103T060000
END:STANDARD
BEGIN:DAYLIGHT
TZOFFSETFROM:-0500
TZOFFSETTO:-0400
TZNAME:EDT
DTSTART:20250309T070000
END:DAYLIGHT
BEGIN:STANDARD
TZOFFSETFROM:-0400
TZOFFSETTO:-0500
TZNAME:EST
DTSTART:20251102T060000
END:STANDARD
BEGIN:DAYLIGHT
TZOFFSETFROM:-0500
TZOFFSETTO:-0400
TZNAME:EDT
DTSTART:20260308T070000
END:DAYLIGHT
BEGIN:STANDARD
TZOFFSETFROM:-0400
TZOFFSETTO:-0500
TZNAME:EST
DTSTART:20261101T060000
END:STANDARD
END:VTIMEZONE
BEGIN:VEVENT
DTSTART;TZID=America/New_York:20250917T110000
DTEND;TZID=America/New_York:20250917T150000
DTSTAMP:20260423T143546
CREATED:20250714T084147Z
LAST-MODIFIED:20250917T133349Z
UID:8341-1758106800-1758121200@crispusattucks.org
SUMMARY:Join Us for the 3rd Annual Veterans Stand Down! 🇺🇸
DESCRIPTION:Crispus Attucks York invites you to the Veterans Stand Down — a vital community event supporting at-risk veterans and veterans experiencing homelessness in York County. \n📍 Location: WellSpan Park Baseball Stadium📬 Address: 5 Brooks Robinson Way\, York\, PA 17401🚪 Enter at: Queen Street Entrance📅 Date: Wednesday\, September 17\, 2025🕚 Time: 11:00 AM – 3:00 PM \nThis event offers access to a variety of supportive services for veterans and is free and open to those in need. \nNeed help connecting a veteran to the event or arranging transportation? \n📞 Contact: Barry Freeland📱 (717) 781-0014📧 bfreeland@crispusattucks.org \n📞 Contact: Peddy Williams – (717) 434-3839 \nLet’s come together to support and honor those who’ve served our country. Please share with someone who may benefit. \nThe Crispus Attucks York 3rd Annual Veterans STAND DOWN to Homeless Event is supported by the U.S. Department of Labor. A total of $7\,000\, or 70%\, of the event is financed with federal funds\,and $3\,000\, or 30%\, is funded by other sources.
URL:https://crispusattucks.org/event/join-us-for-the-3rd-annual-veterans-stand-down-%f0%9f%87%ba%f0%9f%87%b8/
LOCATION:York Revolution’s Stadium\, 5 Brooks Robinson Way\, York\, PA\, 17401
ATTACH;FMTTYPE=image/webp:https://crispusattucks.org/wp-content/uploads/2025/07/ETC_Veterans_StandDown2025_NoDonorLogos_Option2_7.16.25_LowResWeb.webp
ORGANIZER;CN="Barry Freeland":MAILTO:bfreeland@crispusattucks.org
END:VEVENT
END:VCALENDAR