BEGIN:VCALENDAR
VERSION:2.0
PRODID:-//Crispus Attucks York - ECPv6.15.11//NONSGML v1.0//EN
CALSCALE:GREGORIAN
METHOD:PUBLISH
X-ORIGINAL-URL:https://crispusattucks.org
X-WR-CALDESC:Events for Crispus Attucks York
REFRESH-INTERVAL;VALUE=DURATION:PT1H
X-Robots-Tag:noindex
X-PUBLISHED-TTL:PT1H
BEGIN:VTIMEZONE
TZID:America/New_York
BEGIN:DAYLIGHT
TZOFFSETFROM:-0500
TZOFFSETTO:-0400
TZNAME:EDT
DTSTART:20240310T070000
END:DAYLIGHT
BEGIN:STANDARD
TZOFFSETFROM:-0400
TZOFFSETTO:-0500
TZNAME:EST
DTSTART:20241103T060000
END:STANDARD
BEGIN:DAYLIGHT
TZOFFSETFROM:-0500
TZOFFSETTO:-0400
TZNAME:EDT
DTSTART:20250309T070000
END:DAYLIGHT
BEGIN:STANDARD
TZOFFSETFROM:-0400
TZOFFSETTO:-0500
TZNAME:EST
DTSTART:20251102T060000
END:STANDARD
BEGIN:DAYLIGHT
TZOFFSETFROM:-0500
TZOFFSETTO:-0400
TZNAME:EDT
DTSTART:20260308T070000
END:DAYLIGHT
BEGIN:STANDARD
TZOFFSETFROM:-0400
TZOFFSETTO:-0500
TZNAME:EST
DTSTART:20261101T060000
END:STANDARD
END:VTIMEZONE
BEGIN:VEVENT
DTSTART;TZID=America/New_York:20251003T190000
DTEND;TZID=America/New_York:20251003T220000
DTSTAMP:20260423T102922
CREATED:20250822T183006Z
LAST-MODIFIED:20250828T131110Z
UID:8979-1759518000-1759528800@crispusattucks.org
SUMMARY:CAY Active Living Center Presents: Grandmom G Comedy Fundraiser Showcase – Laugh for a Cause!
DESCRIPTION:Date: Friday\, October 3\, 2025Time: Doors open at 6:30 PM | Show starts at 7:00 PMLocation: Crispus Attucks York Active Living Center📍 605 South Duke Street (Rear Low Level)\, York\, PA \nJoin us for a night full of laughter\, good vibes\, and community impact at the Grandmom G Comedian Fundraiser Showcase\, hosted by the Crispus Attucks York Active Living Center! \n🤩 Featuring:\nHeadliner: Grandmom G – You’ve seen her bring the house down across stages—don’t miss her signature comedic storytelling live! \nSpecial Guest: Nate “The Landlord” – Known for keeping it real and keeping you laughing! \nThe Broke Comedian – Relatable\, hilarious\, and here to keep you on your toes! \nExpect a high-energy evening filled with fun\, laughter\, and plenty of emoji-worthy moments! 😂 \n🎟️ Ticket Pricing:\nEarly Bird (Now through September 1\, 2025) \nMembers: $10 \nNon-members: $15 \nRegular Price (September 2 – October 2\, 2025) \nMembers: $15 \nNon-members: $20 \nAt the Door: $25 \n🔗 All proceeds benefit the CAY Active Living Center\, supporting programming for York’s older adults. \n🎫 For tickets\, contact: \nRobin Beatty-Smith: 717-848-3610 \nAisha: 717-683-3041 \nThis event is powered by SMASH – and YOU!Come support a great cause and enjoy an unforgettable night of laughs!
URL:https://crispusattucks.org/event/cay-active-living-center-presents-grandmom-g-comedy-fundraiser-showcase-laugh-for-a-cause/
LOCATION:Crispus Attucks York
ATTACH;FMTTYPE=image/jpeg:https://crispusattucks.org/wp-content/uploads/2025/08/CAY_ALC_ComedianShowcase_LowRes.jpg
ORGANIZER;CN="Robin Beatty Smith":MAILTO:rbeattysmith@crispusattucks.org
END:VEVENT
END:VCALENDAR