BEGIN:VCALENDAR
VERSION:2.0
PRODID:-//Crispus Attucks York - ECPv6.15.11//NONSGML v1.0//EN
CALSCALE:GREGORIAN
METHOD:PUBLISH
X-WR-CALNAME:Crispus Attucks York
X-ORIGINAL-URL:https://crispusattucks.org
X-WR-CALDESC:Events for Crispus Attucks York
REFRESH-INTERVAL;VALUE=DURATION:PT1H
X-Robots-Tag:noindex
X-PUBLISHED-TTL:PT1H
BEGIN:VTIMEZONE
TZID:America/New_York
BEGIN:DAYLIGHT
TZOFFSETFROM:-0500
TZOFFSETTO:-0400
TZNAME:EDT
DTSTART:20240310T070000
END:DAYLIGHT
BEGIN:STANDARD
TZOFFSETFROM:-0400
TZOFFSETTO:-0500
TZNAME:EST
DTSTART:20241103T060000
END:STANDARD
BEGIN:DAYLIGHT
TZOFFSETFROM:-0500
TZOFFSETTO:-0400
TZNAME:EDT
DTSTART:20250309T070000
END:DAYLIGHT
BEGIN:STANDARD
TZOFFSETFROM:-0400
TZOFFSETTO:-0500
TZNAME:EST
DTSTART:20251102T060000
END:STANDARD
BEGIN:DAYLIGHT
TZOFFSETFROM:-0500
TZOFFSETTO:-0400
TZNAME:EDT
DTSTART:20260308T070000
END:DAYLIGHT
BEGIN:STANDARD
TZOFFSETFROM:-0400
TZOFFSETTO:-0500
TZNAME:EST
DTSTART:20261101T060000
END:STANDARD
END:VTIMEZONE
BEGIN:VEVENT
DTSTART;TZID=America/New_York:20251017T150000
DTEND;TZID=America/New_York:20251017T180000
DTSTAMP:20260423T102712
CREATED:20250930T193750Z
LAST-MODIFIED:20250930T193750Z
UID:9640-1760713200-1760724000@crispusattucks.org
SUMMARY:🌟 KidsFit! is coming to Crispus Attucks York! 🌟
DESCRIPTION:📅 Friday\, October 17🕒 3 PM – 6 PM📍 Crispus Attucks York605 S Duke St\, York\, PA 17401 \nBring the whole family for an afternoon full of:✅ Fun Games✅ Exciting Raffles✅ Local Vendors✅ Healthy Snacks✅ Kids Activities \n🎁 Win Big! Enter raffles for your chance to take home awesome prizes like a bike\, headphones\, or even a scooter! \n👉 For vendor opportunities\, email blorenzo@latinoconnection.org \n💡 Participants will also be invited to complete a short survey to help make future events even more engaging! \nDon’t miss this FREE family-friendly event! 🎉#KidsFit #CAYAllDay #FamilyFun #YorkPA
URL:https://crispusattucks.org/event/%f0%9f%8c%9f-kidsfit-is-coming-to-crispus-attucks-york-%f0%9f%8c%9f/
ATTACH;FMTTYPE=image/jpeg:https://crispusattucks.org/wp-content/uploads/2025/09/LC-KidsFit-2025-Save-the-Date_York_101725-1-1_LowRes.jpg
ORGANIZER;CN="Robin Beatty Smith":MAILTO:rbeattysmith@crispusattucks.org
END:VEVENT
END:VCALENDAR