BEGIN:VCALENDAR
VERSION:2.0
PRODID:-//Crispus Attucks York - ECPv6.15.11//NONSGML v1.0//EN
CALSCALE:GREGORIAN
METHOD:PUBLISH
X-ORIGINAL-URL:https://crispusattucks.org
X-WR-CALDESC:Events for Crispus Attucks York
REFRESH-INTERVAL;VALUE=DURATION:PT1H
X-Robots-Tag:noindex
X-PUBLISHED-TTL:PT1H
BEGIN:VTIMEZONE
TZID:America/New_York
BEGIN:DAYLIGHT
TZOFFSETFROM:-0500
TZOFFSETTO:-0400
TZNAME:EDT
DTSTART:20250309T070000
END:DAYLIGHT
BEGIN:STANDARD
TZOFFSETFROM:-0400
TZOFFSETTO:-0500
TZNAME:EST
DTSTART:20251102T060000
END:STANDARD
BEGIN:DAYLIGHT
TZOFFSETFROM:-0500
TZOFFSETTO:-0400
TZNAME:EDT
DTSTART:20260308T070000
END:DAYLIGHT
BEGIN:STANDARD
TZOFFSETFROM:-0400
TZOFFSETTO:-0500
TZNAME:EST
DTSTART:20261101T060000
END:STANDARD
BEGIN:DAYLIGHT
TZOFFSETFROM:-0500
TZOFFSETTO:-0400
TZNAME:EDT
DTSTART:20270314T070000
END:DAYLIGHT
BEGIN:STANDARD
TZOFFSETFROM:-0400
TZOFFSETTO:-0500
TZNAME:EST
DTSTART:20271107T060000
END:STANDARD
END:VTIMEZONE
BEGIN:VEVENT
DTSTART;TZID=America/New_York:20260227T180000
DTEND;TZID=America/New_York:20260227T220000
DTSTAMP:20260423T035522
CREATED:20260116T144210Z
LAST-MODIFIED:20260116T150923Z
UID:10444-1772215200-1772229600@crispusattucks.org
SUMMARY:African American Cultural Alliance Black Excellence Awards Gala
DESCRIPTION:✨ Experience an evening of distinction and celebration at the Black Excellence Gala: Legacy In Motion\, honoring the remarkable achievements of individuals shaping our community’s future. Guests will enjoy a plated dinner\, and the presentation of the Black Excellence Awards\, recognizing six visionary leaders whose contributions inspire and uplift. \nThe night will culminate in a celebratory toast\, live music\, and dancing\, creating a memorable occasion that honors legacy\, excellence\, and the power of community. Join us for a sophisticated evening where achievement is celebrated\, connections are made\, and the future of Black excellence is illuminated. \nRequired Dress Code: Black Tie / Formal Attire \nCrispus Attucks York is proud and excited to celebrate our CEO\, Robert “Bobby” Simpson\, as he is honored with the Lifetime Achievement Award at the African American Cultural Alliance Black Excellence Awards Gala — celebrating this year’s theme: \nLEGACY IN MOTION\nThis special night will recognize extraordinary community leaders who have dedicated their lives to uplifting others — and we couldn’t be more proud to see Mr. Simpson’s decades of service\, leadership\, and impact honored on this powerful stage. \n🎟 Tickets Purchase tickets here: AACAL.ORG/BE\n💛 Come show your support\, celebrate Black excellence\, and be part of a beautiful night featuring:\n✅ Dinner✅ Entertainment✅ Awards Presentation✅ Dancing✅ Community Celebration \n\n📅 Event Details\nFriday\, February 27th🕕 6:00 PM – 10:00 PM📍 Eden Resort – Grand Ballroom222 Eden Rd\, Lancaster\, PA 17601 \n\nLet’s fill the room with Crispus Attucks York pride and celebrate a true community champion. We hope to see you there! 💛🖤
URL:https://crispusattucks.org/event/african-american-cultural-alliance-black-excellence-awards-gala/
LOCATION:Eden Resort – Grand Ballroom\, 222 Eden Rd.\, Lancaster\, PA\, 17601
ATTACH;FMTTYPE=image/webp:https://crispusattucks.org/wp-content/uploads/2026/01/2b69e5_f5fc02be46184958b4e42690823d16a7mv2.webp
END:VEVENT
END:VCALENDAR