BEGIN:VCALENDAR
VERSION:2.0
PRODID:-//Crispus Attucks York - ECPv6.15.11//NONSGML v1.0//EN
CALSCALE:GREGORIAN
METHOD:PUBLISH
X-ORIGINAL-URL:https://crispusattucks.org
X-WR-CALDESC:Events for Crispus Attucks York
REFRESH-INTERVAL;VALUE=DURATION:PT1H
X-Robots-Tag:noindex
X-PUBLISHED-TTL:PT1H
BEGIN:VTIMEZONE
TZID:America/New_York
BEGIN:DAYLIGHT
TZOFFSETFROM:-0500
TZOFFSETTO:-0400
TZNAME:EDT
DTSTART:20250309T070000
END:DAYLIGHT
BEGIN:STANDARD
TZOFFSETFROM:-0400
TZOFFSETTO:-0500
TZNAME:EST
DTSTART:20251102T060000
END:STANDARD
BEGIN:DAYLIGHT
TZOFFSETFROM:-0500
TZOFFSETTO:-0400
TZNAME:EDT
DTSTART:20260308T070000
END:DAYLIGHT
BEGIN:STANDARD
TZOFFSETFROM:-0400
TZOFFSETTO:-0500
TZNAME:EST
DTSTART:20261101T060000
END:STANDARD
BEGIN:DAYLIGHT
TZOFFSETFROM:-0500
TZOFFSETTO:-0400
TZNAME:EDT
DTSTART:20270314T070000
END:DAYLIGHT
BEGIN:STANDARD
TZOFFSETFROM:-0400
TZOFFSETTO:-0500
TZNAME:EST
DTSTART:20271107T060000
END:STANDARD
END:VTIMEZONE
BEGIN:VEVENT
DTSTART;TZID=America/New_York:20260227T180000
DTEND;TZID=America/New_York:20260227T220000
DTSTAMP:20260423T051710
CREATED:20260116T144210Z
LAST-MODIFIED:20260116T150923Z
UID:10444-1772215200-1772229600@crispusattucks.org
SUMMARY:African American Cultural Alliance Black Excellence Awards Gala
DESCRIPTION:✨ Experience an evening of distinction and celebration at the Black Excellence Gala: Legacy In Motion\, honoring the remarkable achievements of individuals shaping our community’s future. Guests will enjoy a plated dinner\, and the presentation of the Black Excellence Awards\, recognizing six visionary leaders whose contributions inspire and uplift. \nThe night will culminate in a celebratory toast\, live music\, and dancing\, creating a memorable occasion that honors legacy\, excellence\, and the power of community. Join us for a sophisticated evening where achievement is celebrated\, connections are made\, and the future of Black excellence is illuminated. \nRequired Dress Code: Black Tie / Formal Attire \nCrispus Attucks York is proud and excited to celebrate our CEO\, Robert “Bobby” Simpson\, as he is honored with the Lifetime Achievement Award at the African American Cultural Alliance Black Excellence Awards Gala — celebrating this year’s theme: \nLEGACY IN MOTION\nThis special night will recognize extraordinary community leaders who have dedicated their lives to uplifting others — and we couldn’t be more proud to see Mr. Simpson’s decades of service\, leadership\, and impact honored on this powerful stage. \n🎟 Tickets Purchase tickets here: AACAL.ORG/BE\n💛 Come show your support\, celebrate Black excellence\, and be part of a beautiful night featuring:\n✅ Dinner✅ Entertainment✅ Awards Presentation✅ Dancing✅ Community Celebration \n\n📅 Event Details\nFriday\, February 27th🕕 6:00 PM – 10:00 PM📍 Eden Resort – Grand Ballroom222 Eden Rd\, Lancaster\, PA 17601 \n\nLet’s fill the room with Crispus Attucks York pride and celebrate a true community champion. We hope to see you there! 💛🖤
URL:https://crispusattucks.org/event/african-american-cultural-alliance-black-excellence-awards-gala/
LOCATION:Eden Resort – Grand Ballroom\, 222 Eden Rd.\, Lancaster\, PA\, 17601
ATTACH;FMTTYPE=image/webp:https://crispusattucks.org/wp-content/uploads/2026/01/2b69e5_f5fc02be46184958b4e42690823d16a7mv2.webp
END:VEVENT
BEGIN:VEVENT
DTSTART;TZID=America/New_York:20260315T150000
DTEND;TZID=America/New_York:20260315T170000
DTSTAMP:20260423T051710
CREATED:20260202T162922Z
LAST-MODIFIED:20260227T215547Z
UID:10633-1773586800-1773594000@crispusattucks.org
SUMMARY:You’re Invited to Crispus Attucks York’s 95th Annual Meeting
DESCRIPTION:Crispus Attucks York warmly invites our community\, partners\, supporters\, and friends to join us as we celebrate a powerful milestone — our 95th Annual Meeting. \nTaking place on Sunday\, March 15th\, from 3:00–5:00 PM\, this special gathering will honor nearly a century of service\, resilience\, and impact since our founding in 1931. \nThis year’s theme\, “A Legacy of Service. A Community of We\, Not I.”\, reflects the heart of Crispus Attucks York — where collective effort continues to uplift children\, families\, seniors\, veterans\, and the greater York community. \nGuests will hear highlights from the past year\, celebrate major accomplishments\, and get a look at what’s ahead — including continued campus growth and the exciting future of the Crispus Attucks York History & Culture Center. Our 2025 Annual Report will showcase stories of transformation made possible through the support of our community. \nWhether you’ve supported CAY for decades or are new to our mission\, this is a meaningful opportunity to connect\, reflect\, and help shape the next chapter of impact. \nJoin us as we honor the past\, celebrate the present\, and rise together into the future. \nTogether\, we give rise to possible.
URL:https://crispusattucks.org/event/youre-invited-to-crispus-attucks-yorks-95th-annual-meeting/
LOCATION:Crispus Attucks York
ATTACH;FMTTYPE=image/jpeg:https://crispusattucks.org/wp-content/uploads/2026/02/2025_CAY_AnnualMeeting_SocialPost_LowRes-1.jpg
ORGANIZER;CN="Donna Williams":MAILTO:dwilliams@crispusattucks.org
END:VEVENT
BEGIN:VEVENT
DTSTART;TZID=America/New_York:20260430T190000
DTEND;TZID=America/New_York:20260501T190000
DTSTAMP:20260423T051710
CREATED:20260301T055310Z
LAST-MODIFIED:20260408T155254Z
UID:10763-1777575600-1777662000@crispusattucks.org
SUMMARY:Give Local York 2026: Celebrating 95 Years of Impact — Together
DESCRIPTION:For 95 years\, Crispus Attucks York has stood as a pillar of hope\, empowerment\, and opportunity in our community. From education and youth development to workforce pathways and cultural enrichment\, our mission has always been rooted in one powerful belief: WE\, NOT I. \nThis year\, as we participate in Give Local York 2026 — York County’s biggest day of giving — we invite you to be part of our continuing story. \n95 Years of Service. One Powerful Day of Giving.\nGive Local York is more than a fundraiser. It’s a 24-hour movement that unites our community around causes that matter. In just one day\, we have the opportunity to make a lasting difference in the lives of the youth and families we serve. \nTo celebrate our 95th anniversary\, Crispus Attucks York has set an ambitious goal: $20\,000 in 24 hours. \nEvery dollar raised will directly support our educational programs and provide summer program scholarships for underserved youth in our community — ensuring access to safe spaces\, academic enrichment\, mentorship\, and life-changing opportunities. \nWhy Your Support Matters\nFor many of the young people we serve\, opportunity isn’t guaranteed — it’s created through community support. \nYour generosity helps remove barriers and open doors. It provides: \n\n\nAcademic support and enrichment \n\n\nMentorship and positive role models \n\n\nExposure to new career pathways \n\n\nSummer learning experiences that prevent academic loss \n\n\nSafe\, structured environments where youth can grow with confidence \n\n\nWhen you give\, you’re not simply funding a program. You’re investing in a future leader\, innovator\, entrepreneur\, or community change-maker. \nThe Impact of Your Gift\nYour gift becomes: \n\n\nA scholarship that allows a child to attend summer programming \n\n\nSupplies that spark curiosity and creativity \n\n\nAccess to experiences that expand horizons \n\n\nEncouragement that builds confidence and self-belief \n\n\nWhat may seem like a single donation becomes a ripple effect of opportunity\, empowerment\, and hope that strengthens our entire community. \nJoin Us. Make an Impact in 24 Hours.\nFor 95 years\, our community has stood together to uplift one another. Now\, we’re asking you to stand with us once again. \nOn Give Local York 2026\, help Crispus Attucks York continue to give rise to possible. \nTogether\, we can reach $20\,000.Together\, we can empower futures.Together\, we continue the legacy. \nMark your calendar. Share the mission. Make your gift. \nBecause when we invest in our youth\, we invest in the future of our community. \n\n 
URL:https://crispusattucks.org/event/give-local-york-2026-celebrating-95-years-of-impact-together/
ATTACH;FMTTYPE=image/jpeg:https://crispusattucks.org/wp-content/uploads/2026/04/2026_GLY_SAVETHEDATE_SMedia_Post_RisingSTARS_LowRes-1.jpg
END:VEVENT
BEGIN:VEVENT
DTSTART;TZID=America/New_York:20260502T110000
DTEND;TZID=America/New_York:20260502T110000
DTSTAMP:20260423T051710
CREATED:20260408T154228Z
LAST-MODIFIED:20260416T082535Z
UID:11228-1777719600-1777719600@crispusattucks.org
SUMMARY:Grand Opening: Crispus Attucks York History & Culture Center
DESCRIPTION:On May 2\, 2026\, Crispus Attucks York will proudly open the doors to a transformative new space — the Crispus Attucks York History & Culture Center (CAYHCC) — marking a historic milestone in the organization’s 95 years of service to the community. \nAt 11:00 AM\, community members\, supporters\, and partners will gather to celebrate the official Grand Opening of a center designed to preserve history\, celebrate culture\, and inspire future generations. As we continue to Give Rise to Possible in our community of York\, PA!  \nSorry\, your browser doesn't support embedded videos. \n\nA Vision Realized\nThe CAYHCC represents years of planning\, collaboration\, and commitment to honoring the rich history of African Americans in York County. This state-of-the-art facility will serve as a educational hub\, and community gathering space\, offering meaningful experiences for visitors of all ages. \nFrom curated exhibits to cultural programming\, the Center will provide opportunities for learning\, reflection\, and connection — ensuring that important stories are not only remembered but shared for generations to come. \n\nA Space for the Community\nThe opening of the History & Culture Center reflects Crispus Attucks York’s ongoing mission to empower individuals\, strengthen families\, and build a more connected community. \nVisitors can expect: \n\nEngaging historical exhibits\nCultural and educational programming\nCommunity events and gatherings\nOpportunities to explore York’s African American heritage\n\nThis new space stands as a powerful reminder of the organization’s guiding principle: WE\, NOT I. \n\nJoin Us for This Historic Moment\nCrispus Attucks York invites the entire community to be part of this exciting celebration. The Grand Opening is more than a ribbon cutting — it is a moment to come together and honor the past while looking toward the future. \n📅 Date: May 2\, 2026⏰ Time: 11:00 AM🌐 Learn more: CAYHCC.ORG \n  \n 
URL:https://crispusattucks.org/event/grand-opening-crispus-attucks-york-history-culture-center/
LOCATION:Crispus Attucks York History and Culture Center\, 45 East Boundray Ave\, York\, 17401\, United States
ATTACH;FMTTYPE=image/jpeg:https://crispusattucks.org/wp-content/uploads/2026/04/663346913_122208814046517310_4736682848430032178_n.jpg
END:VEVENT
END:VCALENDAR