BEGIN:VCALENDAR
VERSION:2.0
PRODID:-//Crispus Attucks York - ECPv6.15.11//NONSGML v1.0//EN
CALSCALE:GREGORIAN
METHOD:PUBLISH
X-WR-CALNAME:Crispus Attucks York
X-ORIGINAL-URL:https://crispusattucks.org
X-WR-CALDESC:Events for Crispus Attucks York
REFRESH-INTERVAL;VALUE=DURATION:PT1H
X-Robots-Tag:noindex
X-PUBLISHED-TTL:PT1H
BEGIN:VTIMEZONE
TZID:America/New_York
BEGIN:DAYLIGHT
TZOFFSETFROM:-0500
TZOFFSETTO:-0400
TZNAME:EDT
DTSTART:20220313T070000
END:DAYLIGHT
BEGIN:STANDARD
TZOFFSETFROM:-0400
TZOFFSETTO:-0500
TZNAME:EST
DTSTART:20221106T060000
END:STANDARD
BEGIN:DAYLIGHT
TZOFFSETFROM:-0500
TZOFFSETTO:-0400
TZNAME:EDT
DTSTART:20230312T070000
END:DAYLIGHT
BEGIN:STANDARD
TZOFFSETFROM:-0400
TZOFFSETTO:-0500
TZNAME:EST
DTSTART:20231105T060000
END:STANDARD
BEGIN:DAYLIGHT
TZOFFSETFROM:-0500
TZOFFSETTO:-0400
TZNAME:EDT
DTSTART:20240310T070000
END:DAYLIGHT
BEGIN:STANDARD
TZOFFSETFROM:-0400
TZOFFSETTO:-0500
TZNAME:EST
DTSTART:20241103T060000
END:STANDARD
END:VTIMEZONE
BEGIN:VEVENT
DTSTART;TZID=America/New_York:20230504T210000
DTEND;TZID=America/New_York:20230505T210000
DTSTAMP:20260424T093441
CREATED:20230418T140516Z
LAST-MODIFIED:20230418T140626Z
UID:2411-1683234000-1683320400@crispusattucks.org
SUMMARY:Join Us! Give Local York 2023
DESCRIPTION:CRISPUS ATTUCKS YORK\, MRS. SHIRLEY JEFFERSON & FAMILY\, AND THE BLACK MINISTERS’ ASSOCIATION OF YORK ASK FOR YOUR SUPPORT FOR THE MICHAEL D. JEFFERSON TRIBUTE FUND!\n\nPlease help us honor his legacy and memory by making a gift in his name to Crispus Attucks York. All donations raised by Crispus Attucks during Give Local York will be used to support the Michael D. Jefferson Tribute Fund.\n\nExciting Announcement! We have an anonymous group of donors who will match all donations up to $10\,000!!\n\nWe want to honor Rev. Michael D. Jefferson for his many years of service to Crispus Attucks and the York community by raising funds to name an education room in our new Crispus Attucks History and Culture Center. Mike “Mr. J” Jefferson was an integral part of Crispus Attucks for over 35 years. He used his personal testimony to inspire\, encourage\, and support the people who needed it the most. He was a beloved colleague\, friend\, and mentor who committed his life to helping others.
URL:https://crispusattucks.org/event/join-us-give-local-york-2023/
ATTACH;FMTTYPE=image/jpeg:https://crispusattucks.org/wp-content/uploads/2023/04/CrispusAttucksYork_GiveLocalYork_2023_ReminderPost_WebLowRes.jpg
END:VEVENT
BEGIN:VEVENT
DTSTART;TZID=America/New_York:20230116T080000
DTEND;TZID=America/New_York:20230116T170000
DTSTAMP:20260424T093441
CREATED:20230109T171645Z
LAST-MODIFIED:20230109T173149Z
UID:2082-1673856000-1673888400@crispusattucks.org
SUMMARY:CAY - MLK Day of Service
DESCRIPTION:In honor of Martin Luther King Jr.\, Crispus Attucks York (CAY) will host its 41st Annual MLK Day of Service on Monday\, January 16\, 2023. This event will take place at Crispus Attucks York Gymnasium beginning at 8:00 AM. There will be:\n\n\n\n∙ MLK Ceremony\n∙ Food and Drinks\n∙ Entertainment\n∙ Panel Discussion\n∙ Community Service\n∙ RMJ Living the Dream Awards\n\n\n\nThe Rev. Michael D. Jefferson Living the Dream Award recognizes high school juniors and seniors and recent alumni who exemplify Dr. King’s legacy through academic effort\, community service\, and leadership in the York community.
URL:https://crispusattucks.org/event/cay-mlk-day-of-service/
LOCATION:Crispus Attucks York
ATTACH;FMTTYPE=image/jpeg:https://crispusattucks.org/wp-content/uploads/2023/01/CrispusAttucks_MLK_DayOfService23_SocialMedia_WebPost.jpg
ORGANIZER;CN="Phil Drayden":MAILTO:pdrayden@crispusattucks.org
END:VEVENT
END:VCALENDAR