BEGIN:VCALENDAR
VERSION:2.0
PRODID:-//Crispus Attucks York - ECPv6.15.11//NONSGML v1.0//EN
CALSCALE:GREGORIAN
METHOD:PUBLISH
X-WR-CALNAME:Crispus Attucks York
X-ORIGINAL-URL:https://crispusattucks.org
X-WR-CALDESC:Events for Crispus Attucks York
REFRESH-INTERVAL;VALUE=DURATION:PT1H
X-Robots-Tag:noindex
X-PUBLISHED-TTL:PT1H
BEGIN:VTIMEZONE
TZID:America/New_York
BEGIN:DAYLIGHT
TZOFFSETFROM:-0500
TZOFFSETTO:-0400
TZNAME:EDT
DTSTART:20220313T070000
END:DAYLIGHT
BEGIN:STANDARD
TZOFFSETFROM:-0400
TZOFFSETTO:-0500
TZNAME:EST
DTSTART:20221106T060000
END:STANDARD
BEGIN:DAYLIGHT
TZOFFSETFROM:-0500
TZOFFSETTO:-0400
TZNAME:EDT
DTSTART:20230312T070000
END:DAYLIGHT
BEGIN:STANDARD
TZOFFSETFROM:-0400
TZOFFSETTO:-0500
TZNAME:EST
DTSTART:20231105T060000
END:STANDARD
BEGIN:DAYLIGHT
TZOFFSETFROM:-0500
TZOFFSETTO:-0400
TZNAME:EDT
DTSTART:20240310T070000
END:DAYLIGHT
BEGIN:STANDARD
TZOFFSETFROM:-0400
TZOFFSETTO:-0500
TZNAME:EST
DTSTART:20241103T060000
END:STANDARD
BEGIN:DAYLIGHT
TZOFFSETFROM:-0500
TZOFFSETTO:-0400
TZNAME:EDT
DTSTART:20250309T070000
END:DAYLIGHT
BEGIN:STANDARD
TZOFFSETFROM:-0400
TZOFFSETTO:-0500
TZNAME:EST
DTSTART:20251102T060000
END:STANDARD
END:VTIMEZONE
BEGIN:VEVENT
DTSTART;TZID=America/New_York:20240115T080000
DTEND;TZID=America/New_York:20240115T150000
DTSTAMP:20260423T171240
CREATED:20231129T220532Z
LAST-MODIFIED:20240114T191452Z
UID:3546-1705305600-1705330800@crispusattucks.org
SUMMARY:CAY 42nd Annual MLK Day of Service
DESCRIPTION:  \nIn honor of Martin Luther King Jr.\, Crispus Attucks York (CAY) will host its 42nd Annual MLK Day of Service on Monday\, January 15\, 2024. This event will take place at Crispus Attucks York Gymnasium beginning at 8:00 AM. There will be: \n∙ MLK Ceremony\n∙ Traditional Breakfast\n∙ Entertainment\n∙ Panel Discussion\n∙ Community Service\n∙ Michael D. Jefferson Living the Dream Awards \n \nCrispus Attucks York is inviting nominations from the community for the first time to receive the Rev. Michael D. Jefferson “Living the Dream Award”. This award is earned by young individuals that you believe embody commitment to educational goals\, self-development\, personal growth and commitment to their community. Further details on form. Download and Fill out the form here! When completed email to development@crispusattucks.org. Nominations are closed on December 28th\,2023.
URL:https://crispusattucks.org/event/cay-42nd-annual-mlk-day-of-service/
LOCATION:Crispus Attucks York
ATTACH;FMTTYPE=image/jpeg:https://crispusattucks.org/wp-content/uploads/2023/11/CAY_MLKDayofService2024_WebsiteLowRes-1.jpg
ORGANIZER;CN="Mrs. Jacquie Martino-Miller":MAILTO:jmartino@crispusattucks.org
END:VEVENT
BEGIN:VEVENT
DTSTART;TZID=America/New_York:20231201T170000
DTEND;TZID=America/New_York:20231201T210000
DTSTAMP:20260423T171240
CREATED:20231110T205808Z
LAST-MODIFIED:20231110T210147Z
UID:3247-1701450000-1701464400@crispusattucks.org
SUMMARY:CAY Goodridge Freedom Center 2023 Festival of Trees Event
DESCRIPTION:This Holiday Season step into a winter wonderland that will leave you breathless. The Goodrige Freedom Center Annual Festival of Trees is a visual feast for the senses\, showcasing a magnificent collection of beautifully decorated trees\, each one uniquely crafted and adorned with dazzling ornaments\, ribbons\, and lights. As you wander through the enchanting forest of trees\, let your imagination run wild and marvel at the creativity and artistry on display. Thank you to all our Donors\, Participants\, and Supporters!!\n\n\nLearn more: https://goodridgefreedomcenter.org
URL:https://crispusattucks.org/event/cay-goodridge-freedom-center-2023-festival-of-trees-event/
LOCATION:Goodridge Freedom Center York PA\, 123 East Philadelphia St.\, York\, 17401\, United States
ATTACH;FMTTYPE=image/jpeg:https://crispusattucks.org/wp-content/uploads/2023/11/FestivalOfFrees_Flyer_RGB_2023_lowres.jpg
END:VEVENT
BEGIN:VEVENT
DTSTART;TZID=America/New_York:20231120T173000
DTEND;TZID=America/New_York:20231120T200000
DTSTAMP:20260423T171240
CREATED:20231024T160238Z
LAST-MODIFIED:20231024T160354Z
UID:3167-1700501400-1700510400@crispusattucks.org
SUMMARY:Crispus Attucks York 40th Cultural Thanksgiving Celebration
DESCRIPTION:Save the date! Crispus Attucks York is excited to announce its 40th Annual Cultural Thanksgiving Celebration\, scheduled for Monday\, November 20th at 6pm. Join us as we come together to embrace and honor the rich diversity of cultures within the CAY community. This year\, we’re thrilled to let you know that we are back in action and there will be no Covid restrictions to dampen our spirits. So\, gather your loved ones and friends for a memorable evening filled with local entertainment and a delectable dinner provided by CAY. \nIn addition to the festivities\, we will be presenting the esteemed Rising STARS Awards\, a special recognition dedicated to individuals who have made a positive impact on the lives of youth in York’s community. The Rising STARS staff are currently in the process of nominating this year’s deserving award recipients. \nDoors open at 5:30pm. The program starts promptly at 6:oopm. Children must be accompanied by an adult. For more information\, Contact Jeannette Santiago 717-848-3610 x 317 or jsantiago@crispusattucks.org or Jacquie Martino-Miller at 717-848-3610 x 262 or jmartino@crispusattucks.org.
URL:https://crispusattucks.org/event/crispus-attucks-york-40th-cultural-thanksgiving-celebration/
ATTACH;FMTTYPE=image/jpeg:https://crispusattucks.org/wp-content/uploads/2023/10/CAY_CulturalThankgiving_Logo_Web.jpg
ORGANIZER;CN="Jeannette Santiago":MAILTO:jsantiago@crispusattucks.org
END:VEVENT
BEGIN:VEVENT
DTSTART;TZID=America/New_York:20231115T100000
DTEND;TZID=America/New_York:20231115T130000
DTSTAMP:20260423T171240
CREATED:20231017T035422Z
LAST-MODIFIED:20231030T172208Z
UID:3151-1700042400-1700053200@crispusattucks.org
SUMMARY:CAY History and Culture Center Groundbreaking Ceremony
DESCRIPTION:  \n“MOLDED BY HISTORY. CHANGING OUR FUTURE.”\nGROUNDBREAKING CELEBRATION \nYork\, PA – On Wednesday\, November 15 th at 10 AM\, Crispus Attucks York will hold a groundbreaking ceremony for the new Crispus Attucks York History and Culture Center – location for event is 45 East Boundary Avenue\, York\, PA 17401 – adjacent to the Susan Byrnes Health Education Center and directly across from our Early Learning Center. \nhttps://crispusattucks.org/wp-content/uploads/2023/10/Groundbreaking_Narrative_CC_Web.mp4\n  \nThe Crispus Attucks History and Culture Center will celebrate\, preserve\, and teach the living history and traditions of African-Americans in greater York and beyond\, bringing diverse communities together through the combined narratives of artistic\, cultural\, and historical treasures in order to enhance understanding among people. We are excited to begin the building phase of this important project and plan to open the center to the public by March of 2025. \n \nThe Center will explore\, document\, and showcase the African American story and impact on York City as well as African Americans’ important place in and contributions to our country’s history. Through the vision\, voice\, creativity and perspective of African Americans in York County\, we will educate the public on York’s history of slavery\, segregation\, civil unrest\, social injustice\, and activism in order to aim toward change and cultivate a better future. It will also be used as a meeting space for the community to gather\, build relationships\, strengthen bonds\, and learn about themselves and each other. Additionally\, the center will depict the rich and varied cultural experiences of other residents of York County\, such as the Latino population\, and their contributions to the York community. \nCrispus Attucks York is a United Way of York County Community Partner.
URL:https://crispusattucks.org/event/cay-history-and-culture-center-groundbreaking-ceremony/
LOCATION:Crispus Attucks York
ATTACH;FMTTYPE=image/jpeg:https://crispusattucks.org/wp-content/uploads/2023/10/CrispusAttucksYork_GroundBreaking_Flyer_VideoCover-copy.jpg
ORGANIZER;CN="Lori Hoffmaster":MAILTO:lhoffmaster@crispusattucks.org
END:VEVENT
BEGIN:VEVENT
DTSTART;TZID=America/New_York:20230901T190000
DTEND;TZID=America/New_York:20230901T220000
DTSTAMP:20260423T171240
CREATED:20230731T181857Z
LAST-MODIFIED:20230824T191806Z
UID:2878-1693594800-1693605600@crispusattucks.org
SUMMARY:CAY Active Living Center 8th Annual Motown Revue Dance Party
DESCRIPTION:Get ready to groove and boogie as Crispus Attucks York Active Living Center presents the highly anticipated 8th Annual Motown Revue Dance Party! Dust off your best ’60s and ’70s attire and join us for an unforgettable evening filled with nostalgic tunes and non-stop dancing. Best dressed will win a cash prize! Live performance by Carmen Bryant! \n \n  \nThe event will take place on Friday\, September 1\, 2023\, from 7:00 PM to 10:00 PM. So put on your dancing shoes and get ready to hit the dance floor! We can’t wait to see you there\, ready to celebrate and create lasting memories. Proceeds will be donated to CAY Active Living Center! \n  \n 
URL:https://crispusattucks.org/event/get-ready-to-groove-and-boogie-here-at-the-ca/
ATTACH;FMTTYPE=image/jpeg:https://crispusattucks.org/wp-content/uploads/2023/07/ALC-60s-70s_MotownFlyer_2023_LowRes.jpg
ORGANIZER;CN="Robin Beatty Smith":MAILTO:rbeattysmith@crispusattucks.org
END:VEVENT
BEGIN:VEVENT
DTSTART;TZID=America/New_York:20230610T130000
DTEND;TZID=America/New_York:20230610T150000
DTSTAMP:20260423T171240
CREATED:20230516T145327Z
LAST-MODIFIED:20230516T145410Z
UID:2463-1686402000-1686409200@crispusattucks.org
SUMMARY:CAY 8th Annual Village Tea Event 2023
DESCRIPTION:Please join us\, Crispus Attucks York\, for our 8th Annual Village Tea\, “Raising Our Kings & Queens”. This Event is FREE to our community. There will be activities\, refreshments\, and much more. We will honor our Marion Howard “IT TAKES A VILLAGE” award recipients. These individuals make an impact in our community.\n\n*Saturday\, JUNE 10Th event Time : 1-3PM \n\n\n \n\n\nTICKET REQUIRED; MUST RSVP: Jacquie Martino-Miller at (717) 848 – 3610 ext. 262 or Email: jmartino@crispusattucks.org\n\n\n \n\n\n#cayvillagetea #giverisetopossible
URL:https://crispusattucks.org/event/cay-8th-annual-village-tea-event-2023/
ATTACH;FMTTYPE=image/jpeg:https://crispusattucks.org/wp-content/uploads/2023/05/CAY_VillageTea_Flyer_SoMedSq_LoRes2023.jpg
END:VEVENT
BEGIN:VEVENT
DTSTART;TZID=America/New_York:20230504T210000
DTEND;TZID=America/New_York:20230505T210000
DTSTAMP:20260423T171240
CREATED:20230418T140516Z
LAST-MODIFIED:20230418T140626Z
UID:2411-1683234000-1683320400@crispusattucks.org
SUMMARY:Join Us! Give Local York 2023
DESCRIPTION:CRISPUS ATTUCKS YORK\, MRS. SHIRLEY JEFFERSON & FAMILY\, AND THE BLACK MINISTERS’ ASSOCIATION OF YORK ASK FOR YOUR SUPPORT FOR THE MICHAEL D. JEFFERSON TRIBUTE FUND!\n\nPlease help us honor his legacy and memory by making a gift in his name to Crispus Attucks York. All donations raised by Crispus Attucks during Give Local York will be used to support the Michael D. Jefferson Tribute Fund.\n\nExciting Announcement! We have an anonymous group of donors who will match all donations up to $10\,000!!\n\nWe want to honor Rev. Michael D. Jefferson for his many years of service to Crispus Attucks and the York community by raising funds to name an education room in our new Crispus Attucks History and Culture Center. Mike “Mr. J” Jefferson was an integral part of Crispus Attucks for over 35 years. He used his personal testimony to inspire\, encourage\, and support the people who needed it the most. He was a beloved colleague\, friend\, and mentor who committed his life to helping others.
URL:https://crispusattucks.org/event/join-us-give-local-york-2023/
ATTACH;FMTTYPE=image/jpeg:https://crispusattucks.org/wp-content/uploads/2023/04/CrispusAttucksYork_GiveLocalYork_2023_ReminderPost_WebLowRes.jpg
END:VEVENT
BEGIN:VEVENT
DTSTART;TZID=America/New_York:20230116T080000
DTEND;TZID=America/New_York:20230116T170000
DTSTAMP:20260423T171240
CREATED:20230109T171645Z
LAST-MODIFIED:20230109T173149Z
UID:2082-1673856000-1673888400@crispusattucks.org
SUMMARY:CAY - MLK Day of Service
DESCRIPTION:In honor of Martin Luther King Jr.\, Crispus Attucks York (CAY) will host its 41st Annual MLK Day of Service on Monday\, January 16\, 2023. This event will take place at Crispus Attucks York Gymnasium beginning at 8:00 AM. There will be:\n\n\n\n∙ MLK Ceremony\n∙ Food and Drinks\n∙ Entertainment\n∙ Panel Discussion\n∙ Community Service\n∙ RMJ Living the Dream Awards\n\n\n\nThe Rev. Michael D. Jefferson Living the Dream Award recognizes high school juniors and seniors and recent alumni who exemplify Dr. King’s legacy through academic effort\, community service\, and leadership in the York community.
URL:https://crispusattucks.org/event/cay-mlk-day-of-service/
LOCATION:Crispus Attucks York
ATTACH;FMTTYPE=image/jpeg:https://crispusattucks.org/wp-content/uploads/2023/01/CrispusAttucks_MLK_DayOfService23_SocialMedia_WebPost.jpg
ORGANIZER;CN="Phil Drayden":MAILTO:pdrayden@crispusattucks.org
END:VEVENT
END:VCALENDAR