BEGIN:VCALENDAR
VERSION:2.0
PRODID:-//Crispus Attucks York - ECPv6.15.11//NONSGML v1.0//EN
CALSCALE:GREGORIAN
METHOD:PUBLISH
X-ORIGINAL-URL:https://crispusattucks.org
X-WR-CALDESC:Events for Crispus Attucks York
REFRESH-INTERVAL;VALUE=DURATION:PT1H
X-Robots-Tag:noindex
X-PUBLISHED-TTL:PT1H
BEGIN:VTIMEZONE
TZID:America/New_York
BEGIN:DAYLIGHT
TZOFFSETFROM:-0500
TZOFFSETTO:-0400
TZNAME:EDT
DTSTART:20250309T070000
END:DAYLIGHT
BEGIN:STANDARD
TZOFFSETFROM:-0400
TZOFFSETTO:-0500
TZNAME:EST
DTSTART:20251102T060000
END:STANDARD
BEGIN:DAYLIGHT
TZOFFSETFROM:-0500
TZOFFSETTO:-0400
TZNAME:EDT
DTSTART:20260308T070000
END:DAYLIGHT
BEGIN:STANDARD
TZOFFSETFROM:-0400
TZOFFSETTO:-0500
TZNAME:EST
DTSTART:20261101T060000
END:STANDARD
BEGIN:DAYLIGHT
TZOFFSETFROM:-0500
TZOFFSETTO:-0400
TZNAME:EDT
DTSTART:20270314T070000
END:DAYLIGHT
BEGIN:STANDARD
TZOFFSETFROM:-0400
TZOFFSETTO:-0500
TZNAME:EST
DTSTART:20271107T060000
END:STANDARD
END:VTIMEZONE
BEGIN:VEVENT
DTSTART;TZID=America/New_York:20260119T073000
DTEND;TZID=America/New_York:20260119T143000
DTSTAMP:20260423T050954
CREATED:20251027T190018Z
LAST-MODIFIED:20260117T230633Z
UID:9862-1768807800-1768833000@crispusattucks.org
SUMMARY:44th Annual MLK Day of Service – 2026
DESCRIPTION:On January 19\, 2026\, Crispus Attucks York will host its 44th Annual MLK Day of\nService. The doors will open at 7:30 am\, and the program will begin at 8:00 am\, followed by breakfast. The morning program will include the annual &quot;Living the Dream award celebration\, entertainment\, and community service opportunities to benefit local non-profit organizations. This year theme\, “Not a day off\, but a day on”\, amplifies Dr. King’s message of community service. Now is the time to act on Dr. King message and his dream. \nJoin us for a day of celebration and service to others. This free event was\nsponsored by Aetna Better Health\, the American Water Charitable Foundation\, and the Welcoming Communities grant from Cultural Alliance of York County. Please note: children in attendance must be accompanied by an adult. \nThe Michael D. Jefferson “Living the Dream” award recognizes York countians who\nexemplify Dr. King’s and Mr. Jefferson’s legacy through academic effort\, community\nservice\, and leadership in the York community. This year\, we will be honoring Mr. Willie Green\, Dr. Sakeenah Sweeney\, Mr. James E Way II\, and Mrs. Tonya Hall. \n \n  \n  \n\n\nGet Involved\nBe part of this day of reflection and service! Volunteer\, attend\, or bring your organization to participate. Together\, we can continue to build a stronger\, more compassionate community. \nBecome a Volunteer \n \nJoin Community Service work at  Service Site \n 
URL:https://crispusattucks.org/event/44th-annual-mlk-day-of-service-2026/
LOCATION:Crispus Attucks York
ATTACH;FMTTYPE=image/webp:https://crispusattucks.org/wp-content/uploads/2025/10/CAY_2026MLKDayofService_Poster_LowRes-scaled.webp
ORGANIZER;CN="Mrs. Jacquie Martino-Miller":MAILTO:jmartino@crispusattucks.org
END:VEVENT
END:VCALENDAR